BEGIN:VCALENDAR
VERSION:2.0
PRODID:-//ChamberMaster//Event Calendar 2.0//EN
METHOD:PUBLISH
X-PUBLISHED-TTL:P1H
REFRESH-INTERVAL:P1H
CALSCALE:GREGORIAN
BEGIN:VTIMEZONE
TZID:America/New_York
BEGIN:DAYLIGHT
RRULE:FREQ=YEARLY;BYMONTH=3;BYDAY=2SU
DTSTART:20070101T000000
TZOFFSETFROM:-0500
TZOFFSETTO:-0400
TZNAME:Eastern Daylight Time
END:DAYLIGHT
BEGIN:STANDARD
RRULE:FREQ=YEARLY;BYMONTH=11;BYDAY=1SU
DTSTART:20070101T000000
TZOFFSETFROM:-0400
TZOFFSETTO:-0500
TZNAME:Eastern Standard Time
END:STANDARD
END:VTIMEZONE
BEGIN:VEVENT
DTSTART;TZID=America/New_York:20241220T083000
DTEND;TZID=America/New_York:20241220T170000
X-MICROSOFT-CDO-ALLDAYEVENT:FALSE
SUMMARY:ServSafe Manager Certification
DESCRIPTION:Course topics include food safety at all stages\, facilities and pest management\, cleaning and sanitizing\, and more!\nThe all-inclusive registration fee of $150 covers:\n- 1 day instruction \n- Course book\n- Study materials\n- Certification exam\n- Light snacks during training
X-ALT-DESC;FMTTYPE=text/html:Course topics include food safety at all stages\, facilities and pest management\, cleaning and sanitizing\, and more!\nThe all-inclusive registration fee of $150 covers:\n- 1 day instruction \n- Course book\n- Study materials\n- Certification exam\n- Light snacks during training
LOCATION:165 11th AVE NE Cairo 39828
UID:e.2600.1096813
SEQUENCE:3
DTSTAMP:20260422T044304Z
URL:https://business.cairogachamber.com/eventcalendar/Details/servsafe-manager-certification-1268113?sourceTypeId=Hub
END:VEVENT
END:VCALENDAR
